BEGIN:VCALENDAR
VERSION:2.0
PRODID:-//Bank of Winona - ECPv6.15.20//NONSGML v1.0//EN
CALSCALE:GREGORIAN
METHOD:PUBLISH
X-WR-CALNAME:Bank of Winona
X-ORIGINAL-URL:https://www.bankofwinona.com
X-WR-CALDESC:Events for Bank of Winona
REFRESH-INTERVAL;VALUE=DURATION:PT1H
X-Robots-Tag:noindex
X-PUBLISHED-TTL:PT1H
BEGIN:VTIMEZONE
TZID:America/Grenada
BEGIN:STANDARD
TZOFFSETFROM:-0400
TZOFFSETTO:-0400
TZNAME:AST
DTSTART:20280101T000000
END:STANDARD
END:VTIMEZONE
BEGIN:VEVENT
DTSTART;TZID=America/Grenada:20291227T120000
DTEND;TZID=America/Grenada:20291227T130000
DTSTAMP:20260421T095957
CREATED:20250904T145839Z
LAST-MODIFIED:20250904T145839Z
UID:10000513-1893067200-1893070800@www.bankofwinona.com
SUMMARY:Winona Rotary Club
DESCRIPTION:
URL:https://www.bankofwinona.com/event/winona-rotary-club-2/2029-12-27/
END:VEVENT
BEGIN:VEVENT
DTSTART;TZID=America/Grenada:20300103T120000
DTEND;TZID=America/Grenada:20300103T130000
DTSTAMP:20260421T095957
CREATED:20250904T145839Z
LAST-MODIFIED:20250904T145839Z
UID:10000514-1893672000-1893675600@www.bankofwinona.com
SUMMARY:Winona Rotary Club
DESCRIPTION:
URL:https://www.bankofwinona.com/event/winona-rotary-club-2/2030-01-03/
END:VEVENT
BEGIN:VEVENT
DTSTART;TZID=America/Grenada:20300110T120000
DTEND;TZID=America/Grenada:20300110T130000
DTSTAMP:20260421T095957
CREATED:20250904T145839Z
LAST-MODIFIED:20250904T145839Z
UID:10000515-1894276800-1894280400@www.bankofwinona.com
SUMMARY:Winona Rotary Club
DESCRIPTION:
URL:https://www.bankofwinona.com/event/winona-rotary-club-2/2030-01-10/
END:VEVENT
BEGIN:VEVENT
DTSTART;TZID=America/Grenada:20300117T120000
DTEND;TZID=America/Grenada:20300117T130000
DTSTAMP:20260421T095957
CREATED:20250904T145839Z
LAST-MODIFIED:20250904T145839Z
UID:10000516-1894881600-1894885200@www.bankofwinona.com
SUMMARY:Winona Rotary Club
DESCRIPTION:
URL:https://www.bankofwinona.com/event/winona-rotary-club-2/2030-01-17/
END:VEVENT
BEGIN:VEVENT
DTSTART;TZID=America/Grenada:20300124T120000
DTEND;TZID=America/Grenada:20300124T130000
DTSTAMP:20260421T095957
CREATED:20250904T145839Z
LAST-MODIFIED:20250904T145839Z
UID:10000517-1895486400-1895490000@www.bankofwinona.com
SUMMARY:Winona Rotary Club
DESCRIPTION:
URL:https://www.bankofwinona.com/event/winona-rotary-club-2/2030-01-24/
END:VEVENT
BEGIN:VEVENT
DTSTART;TZID=America/Grenada:20300131T120000
DTEND;TZID=America/Grenada:20300131T130000
DTSTAMP:20260421T095957
CREATED:20250904T145839Z
LAST-MODIFIED:20250904T145839Z
UID:10000518-1896091200-1896094800@www.bankofwinona.com
SUMMARY:Winona Rotary Club
DESCRIPTION:
URL:https://www.bankofwinona.com/event/winona-rotary-club-2/2030-01-31/
END:VEVENT
BEGIN:VEVENT
DTSTART;TZID=America/Grenada:20300207T120000
DTEND;TZID=America/Grenada:20300207T130000
DTSTAMP:20260421T095957
CREATED:20250904T145839Z
LAST-MODIFIED:20250904T145839Z
UID:10000519-1896696000-1896699600@www.bankofwinona.com
SUMMARY:Winona Rotary Club
DESCRIPTION:
URL:https://www.bankofwinona.com/event/winona-rotary-club-2/2030-02-07/
END:VEVENT
BEGIN:VEVENT
DTSTART;TZID=America/Grenada:20300214T120000
DTEND;TZID=America/Grenada:20300214T130000
DTSTAMP:20260421T095957
CREATED:20250904T145839Z
LAST-MODIFIED:20250904T145839Z
UID:10000520-1897300800-1897304400@www.bankofwinona.com
SUMMARY:Winona Rotary Club
DESCRIPTION:
URL:https://www.bankofwinona.com/event/winona-rotary-club-2/2030-02-14/
END:VEVENT
BEGIN:VEVENT
DTSTART;TZID=America/Grenada:20300221T120000
DTEND;TZID=America/Grenada:20300221T130000
DTSTAMP:20260421T095957
CREATED:20250904T145839Z
LAST-MODIFIED:20250904T145839Z
UID:10000521-1897905600-1897909200@www.bankofwinona.com
SUMMARY:Winona Rotary Club
DESCRIPTION:
URL:https://www.bankofwinona.com/event/winona-rotary-club-2/2030-02-21/
END:VEVENT
BEGIN:VEVENT
DTSTART;TZID=America/Grenada:20300228T120000
DTEND;TZID=America/Grenada:20300228T130000
DTSTAMP:20260421T095957
CREATED:20250904T145839Z
LAST-MODIFIED:20250904T145839Z
UID:10000522-1898510400-1898514000@www.bankofwinona.com
SUMMARY:Winona Rotary Club
DESCRIPTION:
URL:https://www.bankofwinona.com/event/winona-rotary-club-2/2030-02-28/
END:VEVENT
BEGIN:VEVENT
DTSTART;TZID=America/Grenada:20300307T120000
DTEND;TZID=America/Grenada:20300307T130000
DTSTAMP:20260421T095957
CREATED:20250904T145839Z
LAST-MODIFIED:20250904T145839Z
UID:10000523-1899115200-1899118800@www.bankofwinona.com
SUMMARY:Winona Rotary Club
DESCRIPTION:
URL:https://www.bankofwinona.com/event/winona-rotary-club-2/2030-03-07/
END:VEVENT
BEGIN:VEVENT
DTSTART;TZID=America/Grenada:20300314T120000
DTEND;TZID=America/Grenada:20300314T130000
DTSTAMP:20260421T095957
CREATED:20250904T145839Z
LAST-MODIFIED:20250904T145839Z
UID:10000524-1899720000-1899723600@www.bankofwinona.com
SUMMARY:Winona Rotary Club
DESCRIPTION:
URL:https://www.bankofwinona.com/event/winona-rotary-club-2/2030-03-14/
END:VEVENT
BEGIN:VEVENT
DTSTART;TZID=America/Grenada:20300321T120000
DTEND;TZID=America/Grenada:20300321T130000
DTSTAMP:20260421T095957
CREATED:20250904T145839Z
LAST-MODIFIED:20250904T145839Z
UID:10000525-1900324800-1900328400@www.bankofwinona.com
SUMMARY:Winona Rotary Club
DESCRIPTION:
URL:https://www.bankofwinona.com/event/winona-rotary-club-2/2030-03-21/
END:VEVENT
BEGIN:VEVENT
DTSTART;TZID=America/Grenada:20300328T120000
DTEND;TZID=America/Grenada:20300328T130000
DTSTAMP:20260421T095957
CREATED:20250904T145839Z
LAST-MODIFIED:20250904T145839Z
UID:10000526-1900929600-1900933200@www.bankofwinona.com
SUMMARY:Winona Rotary Club
DESCRIPTION:
URL:https://www.bankofwinona.com/event/winona-rotary-club-2/2030-03-28/
END:VEVENT
BEGIN:VEVENT
DTSTART;TZID=America/Grenada:20300404T120000
DTEND;TZID=America/Grenada:20300404T130000
DTSTAMP:20260421T095957
CREATED:20250904T145839Z
LAST-MODIFIED:20250904T145839Z
UID:10000527-1901534400-1901538000@www.bankofwinona.com
SUMMARY:Winona Rotary Club
DESCRIPTION:
URL:https://www.bankofwinona.com/event/winona-rotary-club-2/2030-04-04/
END:VEVENT
BEGIN:VEVENT
DTSTART;TZID=America/Grenada:20300411T120000
DTEND;TZID=America/Grenada:20300411T130000
DTSTAMP:20260421T095957
CREATED:20250904T145839Z
LAST-MODIFIED:20250904T145839Z
UID:10000528-1902139200-1902142800@www.bankofwinona.com
SUMMARY:Winona Rotary Club
DESCRIPTION:
URL:https://www.bankofwinona.com/event/winona-rotary-club-2/2030-04-11/
END:VEVENT
BEGIN:VEVENT
DTSTART;TZID=America/Grenada:20300418T120000
DTEND;TZID=America/Grenada:20300418T130000
DTSTAMP:20260421T095957
CREATED:20250904T145839Z
LAST-MODIFIED:20250904T145839Z
UID:10000529-1902744000-1902747600@www.bankofwinona.com
SUMMARY:Winona Rotary Club
DESCRIPTION:
URL:https://www.bankofwinona.com/event/winona-rotary-club-2/2030-04-18/
END:VEVENT
BEGIN:VEVENT
DTSTART;TZID=America/Grenada:20300425T120000
DTEND;TZID=America/Grenada:20300425T130000
DTSTAMP:20260421T095957
CREATED:20250904T145839Z
LAST-MODIFIED:20250904T145839Z
UID:10000530-1903348800-1903352400@www.bankofwinona.com
SUMMARY:Winona Rotary Club
DESCRIPTION:
URL:https://www.bankofwinona.com/event/winona-rotary-club-2/2030-04-25/
END:VEVENT
BEGIN:VEVENT
DTSTART;TZID=America/Grenada:20300502T120000
DTEND;TZID=America/Grenada:20300502T130000
DTSTAMP:20260421T095957
CREATED:20250904T145839Z
LAST-MODIFIED:20250904T145839Z
UID:10000531-1903953600-1903957200@www.bankofwinona.com
SUMMARY:Winona Rotary Club
DESCRIPTION:
URL:https://www.bankofwinona.com/event/winona-rotary-club-2/2030-05-02/
END:VEVENT
BEGIN:VEVENT
DTSTART;TZID=America/Grenada:20300509T120000
DTEND;TZID=America/Grenada:20300509T130000
DTSTAMP:20260421T095957
CREATED:20250904T145839Z
LAST-MODIFIED:20250904T145839Z
UID:10000532-1904558400-1904562000@www.bankofwinona.com
SUMMARY:Winona Rotary Club
DESCRIPTION:
URL:https://www.bankofwinona.com/event/winona-rotary-club-2/2030-05-09/
END:VEVENT
BEGIN:VEVENT
DTSTART;TZID=America/Grenada:20300516T120000
DTEND;TZID=America/Grenada:20300516T130000
DTSTAMP:20260421T095957
CREATED:20250904T145839Z
LAST-MODIFIED:20250904T145839Z
UID:10000533-1905163200-1905166800@www.bankofwinona.com
SUMMARY:Winona Rotary Club
DESCRIPTION:
URL:https://www.bankofwinona.com/event/winona-rotary-club-2/2030-05-16/
END:VEVENT
BEGIN:VEVENT
DTSTART;TZID=America/Grenada:20300523T120000
DTEND;TZID=America/Grenada:20300523T130000
DTSTAMP:20260421T095957
CREATED:20250904T145839Z
LAST-MODIFIED:20250904T145839Z
UID:10000534-1905768000-1905771600@www.bankofwinona.com
SUMMARY:Winona Rotary Club
DESCRIPTION:
URL:https://www.bankofwinona.com/event/winona-rotary-club-2/2030-05-23/
END:VEVENT
BEGIN:VEVENT
DTSTART;TZID=America/Grenada:20300530T120000
DTEND;TZID=America/Grenada:20300530T130000
DTSTAMP:20260421T095957
CREATED:20250904T145839Z
LAST-MODIFIED:20250904T145839Z
UID:10000535-1906372800-1906376400@www.bankofwinona.com
SUMMARY:Winona Rotary Club
DESCRIPTION:
URL:https://www.bankofwinona.com/event/winona-rotary-club-2/2030-05-30/
END:VEVENT
BEGIN:VEVENT
DTSTART;TZID=America/Grenada:20300606T120000
DTEND;TZID=America/Grenada:20300606T130000
DTSTAMP:20260421T095957
CREATED:20250904T145839Z
LAST-MODIFIED:20250904T145839Z
UID:10000536-1906977600-1906981200@www.bankofwinona.com
SUMMARY:Winona Rotary Club
DESCRIPTION:
URL:https://www.bankofwinona.com/event/winona-rotary-club-2/2030-06-06/
END:VEVENT
BEGIN:VEVENT
DTSTART;TZID=America/Grenada:20300613T120000
DTEND;TZID=America/Grenada:20300613T130000
DTSTAMP:20260421T095957
CREATED:20250904T145839Z
LAST-MODIFIED:20250904T145839Z
UID:10000537-1907582400-1907586000@www.bankofwinona.com
SUMMARY:Winona Rotary Club
DESCRIPTION:
URL:https://www.bankofwinona.com/event/winona-rotary-club-2/2030-06-13/
END:VEVENT
BEGIN:VEVENT
DTSTART;TZID=America/Grenada:20300620T120000
DTEND;TZID=America/Grenada:20300620T130000
DTSTAMP:20260421T095957
CREATED:20250904T145839Z
LAST-MODIFIED:20250904T145839Z
UID:10000538-1908187200-1908190800@www.bankofwinona.com
SUMMARY:Winona Rotary Club
DESCRIPTION:
URL:https://www.bankofwinona.com/event/winona-rotary-club-2/2030-06-20/
END:VEVENT
BEGIN:VEVENT
DTSTART;TZID=America/Grenada:20300627T120000
DTEND;TZID=America/Grenada:20300627T130000
DTSTAMP:20260421T095957
CREATED:20250904T145839Z
LAST-MODIFIED:20250904T145839Z
UID:10000539-1908792000-1908795600@www.bankofwinona.com
SUMMARY:Winona Rotary Club
DESCRIPTION:
URL:https://www.bankofwinona.com/event/winona-rotary-club-2/2030-06-27/
END:VEVENT
BEGIN:VEVENT
DTSTART;TZID=America/Grenada:20300704T120000
DTEND;TZID=America/Grenada:20300704T130000
DTSTAMP:20260421T095957
CREATED:20250904T145839Z
LAST-MODIFIED:20250904T145839Z
UID:10000540-1909396800-1909400400@www.bankofwinona.com
SUMMARY:Winona Rotary Club
DESCRIPTION:
URL:https://www.bankofwinona.com/event/winona-rotary-club-2/2030-07-04/
END:VEVENT
BEGIN:VEVENT
DTSTART;TZID=America/Grenada:20300711T120000
DTEND;TZID=America/Grenada:20300711T130000
DTSTAMP:20260421T095957
CREATED:20250904T145839Z
LAST-MODIFIED:20250904T145839Z
UID:10000541-1910001600-1910005200@www.bankofwinona.com
SUMMARY:Winona Rotary Club
DESCRIPTION:
URL:https://www.bankofwinona.com/event/winona-rotary-club-2/2030-07-11/
END:VEVENT
BEGIN:VEVENT
DTSTART;TZID=America/Grenada:20300718T120000
DTEND;TZID=America/Grenada:20300718T130000
DTSTAMP:20260421T095957
CREATED:20250904T145839Z
LAST-MODIFIED:20250904T145839Z
UID:10000542-1910606400-1910610000@www.bankofwinona.com
SUMMARY:Winona Rotary Club
DESCRIPTION:
URL:https://www.bankofwinona.com/event/winona-rotary-club-2/2030-07-18/
END:VEVENT
END:VCALENDAR